BEGIN:VCALENDAR
VERSION:2.0
PRODID:-//Springwell Golden Voices - ECPv5.13.0//NONSGML v1.0//EN
CALSCALE:GREGORIAN
METHOD:PUBLISH
X-WR-CALNAME:Springwell Golden Voices
X-ORIGINAL-URL:https://springwellgoldenvoices.org.uk
X-WR-CALDESC:Events for Springwell Golden Voices
BEGIN:VTIMEZONE
TZID:Europe/London
BEGIN:DAYLIGHT
TZOFFSETFROM:+0000
TZOFFSETTO:+0100
TZNAME:BST
DTSTART:20190331T010000
END:DAYLIGHT
BEGIN:STANDARD
TZOFFSETFROM:+0100
TZOFFSETTO:+0000
TZNAME:GMT
DTSTART:20191027T010000
END:STANDARD
END:VTIMEZONE
BEGIN:VEVENT
DTSTART;TZID=Europe/London:20191010T140000
DTEND;TZID=Europe/London:20191010T163000
DTSTAMP:20260423T194738
CREATED:20190409T152106Z
LAST-MODIFIED:20190409T152106Z
UID:97-1570716000-1570725000@springwellgoldenvoices.org.uk
SUMMARY:Grand 25th Anniversary Concert
DESCRIPTION:
URL:https://springwellgoldenvoices.org.uk/event/grand-25th-anniversary-concert/
LOCATION:St. Michael’s Church\, 1 Slateford Road\, Edinburgh\, EH11 1NX
CATEGORIES:Concerts
END:VEVENT
END:VCALENDAR