BEGIN:VCALENDAR
VERSION:2.0
PRODID:-//Springwell Golden Voices - ECPv5.13.0//NONSGML v1.0//EN
CALSCALE:GREGORIAN
METHOD:PUBLISH
X-WR-CALNAME:Springwell Golden Voices
X-ORIGINAL-URL:https://springwellgoldenvoices.org.uk
X-WR-CALDESC:Events for Springwell Golden Voices
BEGIN:VTIMEZONE
TZID:Europe/London
BEGIN:DAYLIGHT
TZOFFSETFROM:+0000
TZOFFSETTO:+0100
TZNAME:BST
DTSTART:20190331T010000
END:DAYLIGHT
BEGIN:STANDARD
TZOFFSETFROM:+0100
TZOFFSETTO:+0000
TZNAME:GMT
DTSTART:20191027T010000
END:STANDARD
END:VTIMEZONE
BEGIN:VEVENT
DTSTART;TZID=Europe/London:20190418T101500
DTEND;TZID=Europe/London:20190418T123000
DTSTAMP:20260423T195517
CREATED:20190415T175236Z
LAST-MODIFIED:20190415T175237Z
UID:91-1555582500-1555590600@springwellgoldenvoices.org.uk
SUMMARY:Rehearsal 18 April 2019
DESCRIPTION:Click for Rehearsal Schedule
URL:https://springwellgoldenvoices.org.uk/event/rehearsal-18-april-2019/
LOCATION:St. Michael’s Church\, 1 Slateford Road\, Edinburgh\, EH11 1NX
END:VEVENT
END:VCALENDAR