BEGIN:VCALENDAR
VERSION:2.0
PRODID:-//Springwell Golden Voices - ECPv5.13.0//NONSGML v1.0//EN
CALSCALE:GREGORIAN
METHOD:PUBLISH
X-WR-CALNAME:Springwell Golden Voices
X-ORIGINAL-URL:https://springwellgoldenvoices.org.uk
X-WR-CALDESC:Events for Springwell Golden Voices
BEGIN:VTIMEZONE
TZID:Europe/London
BEGIN:DAYLIGHT
TZOFFSETFROM:+0000
TZOFFSETTO:+0100
TZNAME:BST
DTSTART:20190331T010000
END:DAYLIGHT
BEGIN:STANDARD
TZOFFSETFROM:+0100
TZOFFSETTO:+0000
TZNAME:GMT
DTSTART:20191027T010000
END:STANDARD
END:VTIMEZONE
BEGIN:VEVENT
DTSTART;TZID=Europe/London:20190321T101500
DTEND;TZID=Europe/London:20190321T123000
DTSTAMP:20260423T194610
CREATED:20190206T085230Z
LAST-MODIFIED:20190318T203927Z
UID:45-1553163300-1553171400@springwellgoldenvoices.org.uk
SUMMARY:Rehearsal
DESCRIPTION:Rehearsal Schedule 21 March 2019\nRodgers and Hammerstein on Broadway\nGloria\nAnnie’s Song\nWest Side Story Medley\nGaelic Blessing\nLinden Tree Carol\nWarm Up Medley\nCabaret\n\nCoulter’s Candy   \n\n  \n  \n 
URL:https://springwellgoldenvoices.org.uk/event/rehearsal/
LOCATION:St. Michael’s Church\, 1 Slateford Road\, Edinburgh\, EH11 1NX
CATEGORIES:Rehearsals
END:VEVENT
END:VCALENDAR